BEGIN:VCALENDAR
VERSION:2.0
PRODID:icalendar-ruby
CALSCALE:GREGORIAN
BEGIN:VEVENT
DTSTAMP:20260422T115101Z
UID:7742b134-0adc-411d-9308-3264041e3601
DTSTART;VALUE=DATE:20260503
DESCRIPTION:Property ID# 606681\, Locatoin: Onsite (unless sold prior)\, Ti
 me: 12:00PM
SUMMARY:Auction for 1/5 Duke Street
END:VEVENT
END:VCALENDAR
