BEGIN:VCALENDAR
VERSION:2.0
PRODID:icalendar-ruby
CALSCALE:GREGORIAN
BEGIN:VEVENT
DTSTAMP:20260421T235038Z
UID:33dc1440-54a2-4c42-ab77-0a7a8902f283
DTSTART;VALUE=DATE:20220629
DESCRIPTION:Property ID# 537822\, Time: 3:00PM
SUMMARY:Auction for 
END:VEVENT
END:VCALENDAR
