BEGIN:VCALENDAR
VERSION:2.0
PRODID:icalendar-ruby
CALSCALE:GREGORIAN
BEGIN:VEVENT
DTSTAMP:20260422T084602Z
UID:cbea227b-1d50-4216-90a5-c1d2abb1d633
DTSTART;VALUE=DATE:20211110
DESCRIPTION:Property ID# 519614\, Locatoin:  Lodge Auction Rooms\, 935 Vict
 oria Street\, Hamilton (unless sold prior)\, Time: 12:00PM
SUMMARY:Auction for 
END:VEVENT
END:VCALENDAR
