BEGIN:VCALENDAR
VERSION:2.0
PRODID:icalendar-ruby
CALSCALE:GREGORIAN
BEGIN:VEVENT
DTSTAMP:20260419T135919Z
UID:6b3e6a0f-2ec0-4e63-9c50-6553e0d055a7
DTSTART;VALUE=DATE:20211028
DESCRIPTION:Property ID# 517793\, Locatoin: 96 Ulster Street\, Hamilton\, T
 ime: 11:00AM
SUMMARY:Auction for 
END:VEVENT
END:VCALENDAR
